BEGIN:VCALENDAR
VERSION:2.0
PRODID:-//gallupARTS - ECPv6.15.20//NONSGML v1.0//EN
CALSCALE:GREGORIAN
METHOD:PUBLISH
X-ORIGINAL-URL:https://galluparts.org
X-WR-CALDESC:Events for gallupARTS
REFRESH-INTERVAL;VALUE=DURATION:PT1H
X-Robots-Tag:noindex
X-PUBLISHED-TTL:PT1H
BEGIN:VTIMEZONE
TZID:America/Denver
BEGIN:DAYLIGHT
TZOFFSETFROM:-0700
TZOFFSETTO:-0600
TZNAME:MDT
DTSTART:20250309T090000
END:DAYLIGHT
BEGIN:STANDARD
TZOFFSETFROM:-0600
TZOFFSETTO:-0700
TZNAME:MST
DTSTART:20251102T080000
END:STANDARD
BEGIN:DAYLIGHT
TZOFFSETFROM:-0700
TZOFFSETTO:-0600
TZNAME:MDT
DTSTART:20260308T090000
END:DAYLIGHT
BEGIN:STANDARD
TZOFFSETFROM:-0600
TZOFFSETTO:-0700
TZNAME:MST
DTSTART:20261101T080000
END:STANDARD
BEGIN:DAYLIGHT
TZOFFSETFROM:-0700
TZOFFSETTO:-0600
TZNAME:MDT
DTSTART:20270314T090000
END:DAYLIGHT
BEGIN:STANDARD
TZOFFSETFROM:-0600
TZOFFSETTO:-0700
TZNAME:MST
DTSTART:20271107T080000
END:STANDARD
END:VTIMEZONE
BEGIN:VEVENT
DTSTART;TZID=America/Denver:20260213T140000
DTEND;TZID=America/Denver:20260307T180000
DTSTAMP:20260421T045035
CREATED:20260124T214659Z
LAST-MODIFIED:20260124T214659Z
UID:8055-1770991200-1772906400@galluparts.org
SUMMARY:8th Annual Artist Challenge- Full Circle
DESCRIPTION:Fourteen local artists each present a four-part artwork series inspired by the four seasons
URL:https://galluparts.org/events/8th-annual-artist-challenge-full-circle/
LOCATION:ART123 Gallery\, 123 W. Coal Ave\, Gallup\, NM\, 87301\, United States
ATTACH;FMTTYPE=image/jpeg:https://galluparts.org/wp-content/uploads/2026/01/3-1.jpg
ORGANIZER;CN="gallupARTS":MAILTO:executivedirector@galluparts.org
END:VEVENT
BEGIN:VEVENT
DTSTART;TZID=America/Denver:20260314T140000
DTEND;TZID=America/Denver:20260404T180000
DTSTAMP:20260421T045035
CREATED:20260221T004557Z
LAST-MODIFIED:20260221T004557Z
UID:8091-1773496800-1775325600@galluparts.org
SUMMARY:12th Annual Youth Art Show
DESCRIPTION:This year’s youth art show includes 375+ students from 9 area schools.
URL:https://galluparts.org/events/12th-annual-youth-art-show/
LOCATION:ART123 Gallery\, 123 W. Coal Ave\, Gallup\, NM\, 87301\, United States
ATTACH;FMTTYPE=image/jpeg:https://galluparts.org/wp-content/uploads/2026/02/1.jpg
ORGANIZER;CN="gallupARTS":MAILTO:executivedirector@galluparts.org
END:VEVENT
BEGIN:VEVENT
DTSTART;TZID=America/Denver:20260316T090000
DTEND;TZID=America/Denver:20260320T150000
DTSTAMP:20260421T045035
CREATED:20260221T005031Z
LAST-MODIFIED:20260221T005852Z
UID:8096-1773651600-1774018800@galluparts.org
SUMMARY:Spring Break Art Camp
DESCRIPTION:Design a wood-burned birdhouse\, build your art skills\, explore art and culture in Downtown Gallup\, get creative with arts and crafts\, and make new friends!
URL:https://galluparts.org/events/spring-break-art-camp-3/
LOCATION:ART123 Gallery\, 123 W. Coal Ave\, Gallup\, NM\, 87301\, United States
ATTACH;FMTTYPE=image/jpeg:https://galluparts.org/wp-content/uploads/2026/02/2.jpg
ORGANIZER;CN="gallupARTS":MAILTO:executivedirector@galluparts.org
END:VEVENT
BEGIN:VEVENT
DTSTART;TZID=America/Denver:20260325T180000
DTEND;TZID=America/Denver:20260325T210000
DTSTAMP:20260421T045035
CREATED:20260221T005145Z
LAST-MODIFIED:20260221T005820Z
UID:8097-1774461600-1774472400@galluparts.org
SUMMARY:Paint & Sip: Windowsill Flower Box
DESCRIPTION:Have a creative night out!
URL:https://galluparts.org/events/paint-sip-windowsill-flower-box/
LOCATION:NM
ATTACH;FMTTYPE=image/jpeg:https://galluparts.org/wp-content/uploads/2026/02/4.jpg
END:VEVENT
BEGIN:VEVENT
DTSTART;TZID=America/Denver:20260328T133000
DTEND;TZID=America/Denver:20260328T143000
DTSTAMP:20260421T045035
CREATED:20251203T232256Z
LAST-MODIFIED:20251203T234704Z
UID:8018-1774704600-1774708200@galluparts.org
SUMMARY:2026 New Deal Art Tours
DESCRIPTION:The building of New Mexico identity is one monumental mural and a generational shift in Native American painting.
URL:https://galluparts.org/events/2026-new-deal-art-tours-2/
LOCATION:NM
ATTACH;FMTTYPE=image/jpeg:https://galluparts.org/wp-content/uploads/2025/12/2.jpg
END:VEVENT
BEGIN:VEVENT
DTSTART;TZID=America/Denver:20260328T150000
DTEND;TZID=America/Denver:20260328T170000
DTSTAMP:20260421T045035
CREATED:20260221T005748Z
LAST-MODIFIED:20260221T005748Z
UID:8098-1774710000-1774717200@galluparts.org
SUMMARY:Watercolor Workshop: Birds and Branches
DESCRIPTION:Create spring scenes while adding new techniques to your watercolor painting skill set.
URL:https://galluparts.org/events/watercolor-workshop-birds-and-branches/
LOCATION:ART123 Gallery\, 123 W. Coal Ave\, Gallup\, NM\, 87301\, United States
ATTACH;FMTTYPE=image/jpeg:https://galluparts.org/wp-content/uploads/2026/02/3.jpg
ORGANIZER;CN="gallupARTS":MAILTO:executivedirector@galluparts.org
END:VEVENT
END:VCALENDAR