BEGIN:VCALENDAR
VERSION:2.0
PRODID:-//gallupARTS - ECPv6.15.20//NONSGML v1.0//EN
CALSCALE:GREGORIAN
METHOD:PUBLISH
X-WR-CALNAME:gallupARTS
X-ORIGINAL-URL:https://galluparts.org
X-WR-CALDESC:Events for gallupARTS
REFRESH-INTERVAL;VALUE=DURATION:PT1H
X-Robots-Tag:noindex
X-PUBLISHED-TTL:PT1H
BEGIN:VTIMEZONE
TZID:America/Denver
BEGIN:DAYLIGHT
TZOFFSETFROM:-0700
TZOFFSETTO:-0600
TZNAME:MDT
DTSTART:20240310T090000
END:DAYLIGHT
BEGIN:STANDARD
TZOFFSETFROM:-0600
TZOFFSETTO:-0700
TZNAME:MST
DTSTART:20241103T080000
END:STANDARD
BEGIN:DAYLIGHT
TZOFFSETFROM:-0700
TZOFFSETTO:-0600
TZNAME:MDT
DTSTART:20250309T090000
END:DAYLIGHT
BEGIN:STANDARD
TZOFFSETFROM:-0600
TZOFFSETTO:-0700
TZNAME:MST
DTSTART:20251102T080000
END:STANDARD
BEGIN:DAYLIGHT
TZOFFSETFROM:-0700
TZOFFSETTO:-0600
TZNAME:MDT
DTSTART:20260308T090000
END:DAYLIGHT
BEGIN:STANDARD
TZOFFSETFROM:-0600
TZOFFSETTO:-0700
TZNAME:MST
DTSTART:20261101T080000
END:STANDARD
END:VTIMEZONE
BEGIN:VEVENT
DTSTART;VALUE=DATE:20250308
DTEND;VALUE=DATE:20250331
DTSTAMP:20260422T052212
CREATED:20250305T004332Z
LAST-MODIFIED:20250305T004332Z
UID:7772-1741392000-1743379199@galluparts.org
SUMMARY:
DESCRIPTION:“An art show about “embracing the changing of seasons” in both life and nature and looking forward to what comes next while still appreciating the quiet of moments of now.”
URL:https://galluparts.org/events/7772/
LOCATION:LOOM Gallery\, 209 W. Coal Ave.\, Gallup\, NM\, 87301\, United States
ATTACH;FMTTYPE=image/jpeg:https://galluparts.org/wp-content/uploads/2025/03/Website-Template.jpg
END:VEVENT
BEGIN:VEVENT
DTSTART;TZID=America/Denver:20250308T140000
DTEND;TZID=America/Denver:20250405T180000
DTSTAMP:20260422T052212
CREATED:20250305T003945Z
LAST-MODIFIED:20250305T003945Z
UID:7770-1741442400-1743876000@galluparts.org
SUMMARY:11th Annual Youth Art Show
DESCRIPTION:Celebrating our community’s next generation of artists with a show of 400+ K -12 students from 10 area schools!
URL:https://galluparts.org/events/11th-annual-youth-art-show/
LOCATION:ART123 Gallery\, 123 W. Coal Ave\, Gallup\, NM\, 87301\, United States
ATTACH;FMTTYPE=image/jpeg:https://galluparts.org/wp-content/uploads/2025/03/Website-Template-1.jpg
ORGANIZER;CN="gallupARTS":MAILTO:executivedirector@galluparts.org
END:VEVENT
BEGIN:VEVENT
DTSTART;TZID=America/Denver:20250317T090000
DTEND;TZID=America/Denver:20250321T150000
DTSTAMP:20260422T052212
CREATED:20250205T005400Z
LAST-MODIFIED:20250205T005753Z
UID:7761-1742202000-1742569200@galluparts.org
SUMMARY:Spring Break Art Camp
DESCRIPTION:Spring Break Art Camp features a week-long “masterpiece project” and daily creative activities\, mini art lessons\, and take-home projects.
URL:https://galluparts.org/events/spring-break-art-camp/
LOCATION:ART123 Gallery\, 123 W. Coal Ave\, Gallup\, NM\, 87301\, United States
ATTACH;FMTTYPE=image/jpeg:https://galluparts.org/wp-content/uploads/2025/02/Website-Template.jpg
ORGANIZER;CN="gallupARTS":MAILTO:executivedirector@galluparts.org
END:VEVENT
END:VCALENDAR